BEGIN:VCALENDAR
VERSION:2.0
METHOD:PUBLISH
PRODID::-//Obvius//NONSGML ICal//DA
BEGIN:VEVENT
UID:4857061@psychology.ku.dk
DESCRIPTION:The title of the PhD thesis is 'Compassionate Elite Sports Env
 ironments - Investigating and Enhancing Compassion in the High-Performanc
 e Context of Elite Sport'.\n\nhttps://psychology.ku.dk/events/2025/emilia-
 backman-defends-her-phd-thesis/
SUMMARY:Emilia Backman defends her PhD thesis
CATEGORIES:Ph.d.-forsvar
LOCATION:Auditorium 1.1.18\, The Faculty of Social Sciences (CSS)\, Øster
  Farimagsgade 5\, Building 1\, 1353 Copenhagen
ORGANIZER:Department of Psychology
DTSTART:20250124T130000Z
DTSTAMP:20250124T130000Z
DTEND:20250124T160000Z
END:VEVENT
END:VCALENDAR
