BEGIN:VCALENDAR
VERSION:2.0
METHOD:PUBLISH
PRODID::-//Obvius//NONSGML ICal//DA
BEGIN:VEVENT
UID:5032465@psychology.ku.dk
DESCRIPTION:Public defence of PhD thesis by Erik Skjoldan Mortensen.\n\nh
 ttps://psychology.ku.dk/events/2026/moving-relative-to-the-past/
SUMMARY:Moving Relative to the Past: Reliance on Derivative and Absolute P
 roprioceptive Feedback for Bayesian State Estimation
CATEGORIES:Ph.d.-forsvar
LOCATION:Faculty of Social Sciences\, room 35.01.05\, Gammeltoftgade 15\, 
 1355 København K and on Zoom. Passcode: 286480
ORGANIZER:Department of Psychology
DTSTART:20260504T110000Z
DTSTAMP:20260504T110000Z
DTEND:20260504T140000Z
END:VEVENT
BEGIN:VEVENT
UID:5025781@psychology.ku.dk
DESCRIPTION:Talk with Ashley Randall\, Arizona State University.\n\nhttps
 ://psychology.ku.dk/events/2026/heeding-a-global-call-lived-experiences-of
 -sexual-and-gender-diverse-individuals-from-16-countries/
SUMMARY:Heeding a Global Call: Lived Experiences of Sexual and Gender Dive
 rse Individuals from 16 Countries
CATEGORIES:Oplæg
LOCATION:The Faculty Library\, Gothersgade 140\, Auditorium 1
ORGANIZER:Department of Psychology
DTSTART:20260506T130000Z
DTSTAMP:20260506T130000Z
DTEND:20260506T140000Z
END:VEVENT
BEGIN:VEVENT
UID:5031073@psychology.ku.dk
DESCRIPTION:Public defence of PhD thesis by Rachele Mazzini.\n\nhttps://p
 sychology.ku.dk/events/2026/dishonesty-in-romantic-relationships/
SUMMARY:Dishonesty in Romantic Relationships
CATEGORIES:Ph.d.-forsvar
LOCATION:Faculty of Social Sciences\, room 1.1.18\, Øster Farimagsgade 5\
 , 1353 Copenhagen
ORGANIZER:Department of Psychology
DTSTART:20260507T133000Z
DTSTAMP:20260507T133000Z
DTEND:20260507T163000Z
END:VEVENT
END:VCALENDAR
